BEGIN:VCALENDAR
VERSION:2.0
PRODID:-//ISAVE - Instituto Superior de Saúde - ECPv6.15.20//NONSGML v1.0//EN
CALSCALE:GREGORIAN
METHOD:PUBLISH
X-WR-CALNAME:ISAVE - Instituto Superior de Saúde
X-ORIGINAL-URL:https://isave.pt
X-WR-CALDESC:Eventos para ISAVE - Instituto Superior de Saúde
REFRESH-INTERVAL;VALUE=DURATION:PT1H
X-Robots-Tag:noindex
X-PUBLISHED-TTL:PT1H
BEGIN:VTIMEZONE
TZID:UTC
BEGIN:STANDARD
TZOFFSETFROM:+0000
TZOFFSETTO:+0000
TZNAME:UTC
DTSTART:20250101T000000
END:STANDARD
END:VTIMEZONE
BEGIN:VEVENT
DTSTART;VALUE=DATE:20261127
DTEND;VALUE=DATE:20261130
DTSTAMP:20260423T204516
CREATED:20260305T181519Z
LAST-MODIFIED:20260305T181659Z
UID:15117-1795737600-1795996799@isave.pt
SUMMARY:Congresso Internacional "One Health"
DESCRIPTION:BREVEMENTE MAIS INFORMAÇÕES
URL:https://isave.pt/evento/congresso-internacional-one-health/
LOCATION:Guimarães\, Portugal
END:VEVENT
END:VCALENDAR